BEGIN:VCALENDAR
VERSION:2.0
PRODID:-//CasaNave Alle Mura - ECPv6.15.17//NONSGML v1.0//EN
CALSCALE:GREGORIAN
METHOD:PUBLISH
X-WR-CALNAME:CasaNave Alle Mura
X-ORIGINAL-URL:https://casanaveallemura.com
X-WR-CALDESC:Eventi per CasaNave Alle Mura
REFRESH-INTERVAL;VALUE=DURATION:PT1H
X-Robots-Tag:noindex
X-PUBLISHED-TTL:PT1H
BEGIN:VTIMEZONE
TZID:Europe/Paris
BEGIN:DAYLIGHT
TZOFFSETFROM:+0100
TZOFFSETTO:+0200
TZNAME:CEST
DTSTART:20220327T010000
END:DAYLIGHT
BEGIN:STANDARD
TZOFFSETFROM:+0200
TZOFFSETTO:+0100
TZNAME:CET
DTSTART:20221030T010000
END:STANDARD
BEGIN:DAYLIGHT
TZOFFSETFROM:+0100
TZOFFSETTO:+0200
TZNAME:CEST
DTSTART:20230326T010000
END:DAYLIGHT
BEGIN:STANDARD
TZOFFSETFROM:+0200
TZOFFSETTO:+0100
TZNAME:CET
DTSTART:20231029T010000
END:STANDARD
BEGIN:DAYLIGHT
TZOFFSETFROM:+0100
TZOFFSETTO:+0200
TZNAME:CEST
DTSTART:20240331T010000
END:DAYLIGHT
BEGIN:STANDARD
TZOFFSETFROM:+0200
TZOFFSETTO:+0100
TZNAME:CET
DTSTART:20241027T010000
END:STANDARD
END:VTIMEZONE
BEGIN:VEVENT
DTSTART;TZID=Europe/Paris:20231125T210000
DTEND;TZID=Europe/Paris:20231125T230000
DTSTAMP:20260423T114535
CREATED:20231105T193349Z
LAST-MODIFIED:20231123T183237Z
UID:4394-1700946000-1700953200@casanaveallemura.com
SUMMARY:Dall'America Latina al Mediterraneo
DESCRIPTION:Concerto “Dall’America Latina al Mediterraneo”\n  \nGabriel Aguilera\, chitarra e charango \nKaren Gómez\, percussioni \nFiore Benigni\, organetto \nÈ un incontro sinergico quello fra questi tre musicisti di diversa provenienza geografica (Chile\, Italia) ed esperienza artistica. Il concerto di Trío EnCanto offre uno spaccato su alcuni tra i principali stili ritmici e melodici dell’America Latina: cueca e chacarera\, choro e carnavalito\, milonga e cumbia\, passando per i suoni mediterranei della rumba spagnola o della tarantella barocca. \nCon questa proposta musicale\, il trio vuole offrire al pubblico un dinamico programma che coniughi l’alto livello esecutivo e la brillante immediatezza delle atmosfere latine. \nA fine concerto\, ci sarà il consueto momento conviviale. CasaNave apre i suoi spazi e il pubblico è invitato a gustare un bicchiere di vino e degli assaggi di cibi ispirati alla serata e preparati dai nostri amici dell’Azienda Rosmarina che quest’anno hanno collaborato con l’Associazione Kinesfera per tutti i concerti di Fermenti Sonori. \nsabato 25 novembre h 21:00 – CasaNave Alle Mura\, Tuscania \nPer saperne di più sul progetto vai alla pagina della campagna Crowdfunding sulla piattaforma EPPELA! \nAiutaci anche tu a sviluppare FERMENTI SONORI !\n			\n			\n				\n				\n				\n				\n			\n				\n				\n				\n				\n				\n				\n				\n				\n				\n				\n				>Biografie\n			\n			\n				\n				\n				\n				\n			\n				\n				\n				\n				\n				\n				\n				\n				\n				\n				\n				\n			\n				\n				\n				\n				\n				\n			\n				\n				\n				\n				\n				\n			\n			\n				\n				\n				\n				\n				\n				\n				\n				\n				\n				Gabriel Aguilera\, cileno\, approda in Olanda nel 1978 e da allora sviluppa un’intensa e ininterrotta attività musicale\, collaborando con diversi gruppi e partecipando a progetti di musica popolare latinoamericana. Dal 1999 prende parte al gruppo Musica Temprana\, specializzato in Musica Barocca Latinoamericana. Nel 2000\, in Italia si avvicina alla musica popolare del Sud Italia\, dando vita al gruppo al Gruppo “Pizzicanto” e al “Gabriel Aguilera Project”. Collabora inoltre con Nando Citarella\, Gianni Abbate\, Raffaello Simeoni\, Fiore Benigni ed altri artisti in ambito musicale e teatrale. Dal 1990\, parallelamente all’attività musicale\, Gabriel si dedica alla liuteria\, specializzandosi in strumenti a corda del Sudamerica ed europei del Rinascimento e Barocco. \n  \n			\n				\n				\n				\n				\n				Fiore Benigni\, suonatore di organetto diatonico e compositore\, studia e si perfeziona con i maggiori professionisti presenti sul territorio nazionale. Svolge attività concertistica in Italia e all’estero e ha al suo attivo partecipazioni discografiche con artisti di diversa appartenenza stilistica. Autore di brani che spaziano dalla musica etnica al jazz\, è fondatore del duo “Niglos.”\, del “Gabriel Aguilera Project”\, stabilmente suona con l’ensemble “Pizzicanto 2.0”\, in duo (e in quartetto) con il clarinettista Paolo Rocca\, e collabora da anni con Teresa de Sio\, Moni Ovadia e Lucilla Galeazzi. Compone nel 2008 le musiche per “Love”\, spettacolo di Emanuela Giordano e Susanna Tamaro. Tiene corsi e seminari in collaborazione con ARCI e CEMEA. Ha partecipato al progetto “Tevere eterno” di William Kentridge e Philip Miller. Da tempi non sospetti si occupa di punk-hardcore e di storia della filosofia. \n  \n			\n				\n				\n				\n				\n				Karen Gómez Vergara\, cilena\, studia e si perfeziona in Cile e in Brasile in percussioni e in Pedagogia della musica\, e in Italia in Musicoterapia. Parallelamente alla sua attività didattica\, è stata nel tempo percussionista e compositrice con i gruppi “Cantorìa popular de mujeres El Bosque”\, “Alterlatina”\, “Labanda en Flor”\, “Anitchie”\, attivi a livello internazionale. Di ritorno da una tournée in Grecia con musicisti cubani\, sceglie di stabilirsi nella Tuscia dove vive dal 2021. A Viterbo fonda e coordina il gruppo di percussioni “Agodò – tamburi di festa”. Con Gabriel Aguilera e Fiore Benigni stringe nel 2022 un sodalizio artistico che le consente di mettere a valore le competenze tecniche acquisite attraverso i lunghi periodi di studio dei linguaggi ritmici tradizionali di molte regioni dell’America Latina. \n			\n			\n				\n				\n				\n				\n			\n				\n				\n				\n				\n				\n				\n				\n				\n				\n				\n				info\n			\n			\n				\n				\n				\n				\n				\n			\n				\n				\n				\n				\n			\n				\n				\n				\n				\n				\n				\n				\n				\n				\n				\n				Contributo agli eventi: \n\ncontributo minimo consigliato €15\n\n			\n			\n				\n				\n				\n				\n				\n				\n				\n				\n				\n				Informazioni e prenotazioni375 5127096 – 339 4981834info@casanaveallemura.com
URL:https://casanaveallemura.com/evento/encanto-trio/
LOCATION:CasaNave alle Mura
CATEGORIES:Concerto
ATTACH;FMTTYPE=image/jpeg:https://casanaveallemura.com/wp-content/uploads/2023/11/05_Trio-EnCanto-OK.jpg
END:VEVENT
END:VCALENDAR