BEGIN:VCALENDAR
VERSION:2.0
PRODID:-//CasaNave Alle Mura - ECPv6.15.17//NONSGML v1.0//EN
CALSCALE:GREGORIAN
METHOD:PUBLISH
X-ORIGINAL-URL:https://casanaveallemura.com
X-WR-CALDESC:Eventi per CasaNave Alle Mura
REFRESH-INTERVAL;VALUE=DURATION:PT1H
X-Robots-Tag:noindex
X-PUBLISHED-TTL:PT1H
BEGIN:VTIMEZONE
TZID:Europe/Paris
BEGIN:DAYLIGHT
TZOFFSETFROM:+0100
TZOFFSETTO:+0200
TZNAME:CEST
DTSTART:20210328T010000
END:DAYLIGHT
BEGIN:STANDARD
TZOFFSETFROM:+0200
TZOFFSETTO:+0100
TZNAME:CET
DTSTART:20211031T010000
END:STANDARD
BEGIN:DAYLIGHT
TZOFFSETFROM:+0100
TZOFFSETTO:+0200
TZNAME:CEST
DTSTART:20220327T010000
END:DAYLIGHT
BEGIN:STANDARD
TZOFFSETFROM:+0200
TZOFFSETTO:+0100
TZNAME:CET
DTSTART:20221030T010000
END:STANDARD
BEGIN:DAYLIGHT
TZOFFSETFROM:+0100
TZOFFSETTO:+0200
TZNAME:CEST
DTSTART:20230326T010000
END:DAYLIGHT
BEGIN:STANDARD
TZOFFSETFROM:+0200
TZOFFSETTO:+0100
TZNAME:CET
DTSTART:20231029T010000
END:STANDARD
END:VTIMEZONE
BEGIN:VEVENT
DTSTART;TZID=Europe/Paris:20220414T210000
DTEND;TZID=Europe/Paris:20220414T223000
DTSTAMP:20260424T231721
CREATED:20220614T103135Z
LAST-MODIFIED:20220615T154251Z
UID:1663-1649970000-1649975400@casanaveallemura.com
SUMMARY:Versi dispersi
DESCRIPTION:La serata è un viaggio alla scoperta del pensiero mistico persiano. A guidarci è Pejman Tadayon\, artista poliedrico\, musicista e pittore\, che attraverso le sue sonorità poetiche e musicali esprime\, in qualità di compositore e interprete\, la sua stessa condizione esistenziale sospesa come un ponte tra due culture: la ricchezza della tradizione persiana e le molteplici suggestioni raccolte lungo la sua permanenza in Occidente. \nCon il suo ultimo progetto\, Non siamo sufi\, l’artista fa omaggio alla propria formazione presentando musiche di sua creazione eseguite però con gli strumenti classici della tradizione persiana. Questa originale trasposizione in musica dei versi di quattro grandi mistici persiani\, Rumi\, Omar Khayyam\, Hafez e Saadì\, intende restituirne l’ambiente sonoro più evocativo. \nI brani sono cantati da Pejman in farsi e per l’occasione Claudia Ciceroni ne recita il testo nella versione italiana. Brano dopo brano\, si va così svelando una grande verità affidata alle pagine più significative della tradizione sufi: quella di un sentimento di estraneità ad ogni appartenenza rigidamente intesa\, indispensabile per vivere in piena libertà. “Sono convinto che l’Oriente e l’Occidente possano incontrarsi e conoscersi profondamente.  E non ho altro che la musica per dimostrarlo”.\n			\n			\n				\n				\n				\n				\n			\n				\n				\n				\n				\n				\n				\n				\n				\n				\n				\n				> biografia \n			\n			\n				\n				\n				\n				\n			\n				\n				\n				\n				\n				\n				\n				\n				\n				\n				\n				\n			\n			\n				\n				\n				\n				\n				\n				\n				\n				\n				\n				Pejman Tadayon musicista\, compositore e pittore\, è uno dei massimi esperti di musica persiana e sufi in Italia. Nasce a Esfahan (Iran)\, dove ha studiato l’antico repertorio e gli strumenti tradizionali persiani. In Italia ha fondato diversi gruppi musicali e il Pejman Tadayon Ensemble\, per il quale compone musiche originali ispirate alle poesie di Rumi e al Sufismo. A Roma ha inaugurato la Galleria Sonora\, in cui espone le sue opere di pittura musicale. Insegna oud\, târ\, setâr e teoria della musica orientale. \n			\n			\n				\n				\n				\n				\n			\n				\n				\n				\n				\n				\n				\n				\n				\n				\n				\n				\n			\n			\n				\n				\n				\n				\n				\n				\n				\n				\n				\n				Claudia Ciceroni\, pedagogista musicale\, cantante e direttrice di coro con un background di recitazione e danza\, è laureata presso il conservatorio di Fermo in canto rinascimentale e barocco. Integra le metodologie Willems\, Gordon e BAPNE con lo studio dei metodi Dalcroze\, Kodaly e Orff-schulwerk. Svolge attività in cori e ensemble di musica antica\, compagnie teatrali e produzioni cinematografiche. Insegna musica e vocalità in contesti educativi e performativi trasversali (teatro\, cinema\, danza\, scuola\, coralità). \n			\n			\n				\n				\n				\n				\n			\n				\n				\n				\n				\n				\n				\n				\n				\n				\n				\n				programma completo dolci risvegli \n			\n			\n				\n				\n				\n				\n			\n				\n				\n				\n				\n				\n				\n				\n				\n				\n				\n				torna alla programmazione
URL:https://casanaveallemura.com/evento/versi-dispersi/
LOCATION:CasaNave alle Mura
CATEGORIES:Concerto,Dolci risvegli
ATTACH;FMTTYPE=image/jpeg:https://casanaveallemura.com/wp-content/uploads/2022/06/pejman-tadayon_1290x860.jpg
END:VEVENT
END:VCALENDAR