BEGIN:VCALENDAR
VERSION:2.0
PRODID:-//CasaNave Alle Mura - ECPv6.15.17//NONSGML v1.0//EN
CALSCALE:GREGORIAN
METHOD:PUBLISH
X-WR-CALNAME:CasaNave Alle Mura
X-ORIGINAL-URL:https://casanaveallemura.com
X-WR-CALDESC:Eventi per CasaNave Alle Mura
REFRESH-INTERVAL;VALUE=DURATION:PT1H
X-Robots-Tag:noindex
X-PUBLISHED-TTL:PT1H
BEGIN:VTIMEZONE
TZID:Europe/Paris
BEGIN:DAYLIGHT
TZOFFSETFROM:+0100
TZOFFSETTO:+0200
TZNAME:CEST
DTSTART:20220327T010000
END:DAYLIGHT
BEGIN:STANDARD
TZOFFSETFROM:+0200
TZOFFSETTO:+0100
TZNAME:CET
DTSTART:20221030T010000
END:STANDARD
BEGIN:DAYLIGHT
TZOFFSETFROM:+0100
TZOFFSETTO:+0200
TZNAME:CEST
DTSTART:20230326T010000
END:DAYLIGHT
BEGIN:STANDARD
TZOFFSETFROM:+0200
TZOFFSETTO:+0100
TZNAME:CET
DTSTART:20231029T010000
END:STANDARD
BEGIN:DAYLIGHT
TZOFFSETFROM:+0100
TZOFFSETTO:+0200
TZNAME:CEST
DTSTART:20240331T010000
END:DAYLIGHT
BEGIN:STANDARD
TZOFFSETFROM:+0200
TZOFFSETTO:+0100
TZNAME:CET
DTSTART:20241027T010000
END:STANDARD
END:VTIMEZONE
BEGIN:VEVENT
DTSTART;TZID=Europe/Paris:20230520T210000
DTEND;TZID=Europe/Paris:20230520T230000
DTSTAMP:20260424T000813
CREATED:20230322T104033Z
LAST-MODIFIED:20230531T085635Z
UID:3669-1684616400-1684623600@casanaveallemura.com
SUMMARY:Spirit of the Past
DESCRIPTION:>Concerto \n			\n			\n				\n				\n				\n				\n			\n				\n				\n				\n				\n				\n				\n				\n				\n				\n				\n				Spirit of the Past è il titolo dell’ultimo album di questo pianista e compositore la cui lunga carriera inizia con la musica progressive\, prosegue con il pop e continua all’insegna della contemporaneità. In questo concerto Stàlteri presenta gran parte dei brani contenuti nell’album Spirit of the Past\, con sue composizioni originali e interpretazioni di musiche care alla sua storia o di autori con cui Arturo ha collaborato. Spirit of the Past – spiega Stàlteri – “racconta quasi mezzo secolo di incontri\, non solo artistici. L’amore per la musica mi ha permeato\, a volte\, salvato\, e condividere con altri questa passione mi ha profondamente arricchito”. \nRicco e vario è il programma del concerto: \nI Tempo\nErik SatieGnossienne numero 3 \nGaio ChiocchioLady Ligeia \nA. StàlteriThe grey havens’ lullaby \nCat StevenMoonshadow \nA. StàlteriViaggiando tra i riflessi \nA. VendittiFigli del domani \nA. StàlteriLightyears \n  \nII Tempo\nA. StàlteriNotturno in do minore \nThe Rolling StonesRuby Tuesday \nR. CacciapagliaSonanze III movement \nA. StàlteriPassione d’amore \nA. StàlteriThe quiet road to the sea \nA. StàlteriTristes vagues \nRino GaetanoMa il cielo è sempre più blu \n  \nNell’intervallo tra un tempo e l’altro\, il pubblico è invitato a un momento conviviale\, con deliziosi assaggi preparati e offerti da Agrirosamarina. \n			\n			\n				\n				\n				\n				\n			\n				\n				\n				\n				\n				\n				\n				\n				\n				\n				\n				>Biografia\n			\n			\n				\n				\n				\n				\n			\n				\n				\n				\n				\n				\n				\n				\n				\n				\n				\n				\n			\n			\n				\n				\n				\n				\n				\n				\n				\n				\n				\n				Arturo Stàlteri\, pianista\, compositore\, conduttore radio televisivo\, si diploma in pianoforte a L’Aquila al Conservatorio Alfredo Casella. Studia a Roma con Vera Gobbi Belcredi\, a Parigi con Aldo Ciccolini\, e frequenta\, come allievo effettivo\, i corsi di Vincenzo Vitale e Konstantin Bogino. Nella sua vivace attività concertistica in Italia e all’estero\, oltre a presentare le proprie composizioni\, rivolge la sua attenzione ad autori dell’area extra-colta. Ai suoi esordi fonda il gruppo Pierrot Lunaire\, uno dei nomi storici del rock progressivo degli anni settanta\, band che seppe mediare tra rock e classicismo e con cui incise per la RCA. Molte sono le successive incisioni come solista. Il suo ultimo lavoro\, pubblicato nel 2021\, si intitola “Spirit of the Past” e vede la partecipazione di Roberto Cacciapaglia\, Grazia Di Michele e Antonello Venditti. Stàlteri ha inoltre collaborato con Franco Battiato\, David Sylvian\, Sonja Kristina\, Rino Gaetano e Carlo Verdone. Molti dei suoi dischi sono stati ripubblicati in Giappone e in Corea. Come critico musicale è attualmente la voce di “Primo Movimento”\, “Il Concerto del Mattino” e “Qui Comincia”\, su Radio 3. \n			\n			\n				\n				\n				\n				\n			\n				\n				\n				\n				\n				\n				\n				\n				\n				\n				\n				> Info\n			\n			\n				\n				\n				\n				\n				\n			\n				\n				\n				\n				\n			\n				\n				\n				\n				\n				\n				\n				\n				\n				\n				\n				Informazioni e prenotazioni375 5127096 – 339 4981834info@casanaveallemura.com
URL:https://casanaveallemura.com/evento/spirit-of-the-past/
LOCATION:CasaNave alle Mura
CATEGORIES:Concerto
ATTACH;FMTTYPE=image/png:https://casanaveallemura.com/wp-content/uploads/2023/03/Stalteri_-immagine-in-evidenza.png
END:VEVENT
END:VCALENDAR