BEGIN:VCALENDAR
VERSION:2.0
PRODID:-//CasaNave Alle Mura - ECPv6.15.17//NONSGML v1.0//EN
CALSCALE:GREGORIAN
METHOD:PUBLISH
X-ORIGINAL-URL:https://casanaveallemura.com
X-WR-CALDESC:Eventi per CasaNave Alle Mura
REFRESH-INTERVAL;VALUE=DURATION:PT1H
X-Robots-Tag:noindex
X-PUBLISHED-TTL:PT1H
BEGIN:VTIMEZONE
TZID:Europe/Paris
BEGIN:DAYLIGHT
TZOFFSETFROM:+0100
TZOFFSETTO:+0200
TZNAME:CEST
DTSTART:20220327T010000
END:DAYLIGHT
BEGIN:STANDARD
TZOFFSETFROM:+0200
TZOFFSETTO:+0100
TZNAME:CET
DTSTART:20221030T010000
END:STANDARD
BEGIN:DAYLIGHT
TZOFFSETFROM:+0100
TZOFFSETTO:+0200
TZNAME:CEST
DTSTART:20230326T010000
END:DAYLIGHT
BEGIN:STANDARD
TZOFFSETFROM:+0200
TZOFFSETTO:+0100
TZNAME:CET
DTSTART:20231029T010000
END:STANDARD
BEGIN:DAYLIGHT
TZOFFSETFROM:+0100
TZOFFSETTO:+0200
TZNAME:CEST
DTSTART:20240331T010000
END:DAYLIGHT
BEGIN:STANDARD
TZOFFSETFROM:+0200
TZOFFSETTO:+0100
TZNAME:CET
DTSTART:20241027T010000
END:STANDARD
END:VTIMEZONE
BEGIN:VEVENT
DTSTART;TZID=Europe/Paris:20230610T210000
DTEND;TZID=Europe/Paris:20230610T230000
DTSTAMP:20260423T220416
CREATED:20230422T091248Z
LAST-MODIFIED:20230610T163459Z
UID:3825-1686430800-1686438000@casanaveallemura.com
SUMMARY:Stairway to Bach
DESCRIPTION:>Concerto\n			\n			\n				\n				\n				\n				\n			\n				\n				\n				\n				\n				\n				\n				\n				\n				\n				\n				L’ultimo appuntamento della rassegna PrimaVera Musica\, organizzata dall’Associazione Kinesfera\, vede protagonista l’AB&C Trio\, una formazione di musicisti provenienti da esperienze musicali diverse con ottimo affiatamento e brillante lavoro d’insieme: il pianista Francesco Attesti\, il contrabbassista Maurizio “Bozorius” Bozzi e il batterista Maicol Cucchi. \nCon “Stairway to Bach“\, questi tre grandi strumentisti apprezzati in Italia e all’estero\, presentano un programma che comprende celebri brani di musica classica rivisitati in chiave progressive jazz. Ascolteremo brani di Bach\, ispirati alle trascrizioni del celebre pianista Jacques Loussier\, nonché di Tchaikovsky e Ravel\, eseguiti con libertà interpretativa pur nel rispetto delle partiture originali. \nProgramma \nI TEMPO \nJ. S. Bach (1685 – 1750);– Air– Inventio n. 1– Preludio n. 1 \nJ. S. Bach (1685 – 1750);– Chorale– Toccata e fuga in re minore– Bourrée \nII TEMPO \nP. I. Tchaikovsky (1840 -1893)– Suite da “Lo Schiaccianoci” \nM. Ravel (1875 – 1937)– Bolero \nNell’intervallo tra un tempo e l’altro\, il pubblico è invitato a un momento conviviale\, con deliziosi assaggi preparati e offerti da Agrirosamarina. \n			\n			\n				\n				\n				\n				\n			\n				\n				\n				\n				\n				\n				\n				\n				\n				\n				\n				>Biografie\n			\n			\n				\n				\n				\n				\n			\n				\n				\n				\n				\n				\n				\n				\n				\n				\n				\n				\n			\n			\n				\n				\n				\n				\n				\n				\n				\n				\n				\n				Francesco Attesti è uno dei migliori interpreti della sua generazione nel repertorio romantico e del primo novecento. Inizia lo studio del pianoforte a 6 anni e a 16 incontra il Maestro Perticaroli\, la cui frequentazione lo porta a vincere vari concorsi nazionali e internazionali. Nel 1998 si diploma col massimo dei voti presso il Conservatorio “L. Cherubini” di Firenze sotto la guida del Maestro Luigi Tanganelli. Attesti vanta moltissime collaborazioni e registrazioni per varie case discografiche (Agorà\, Max Research\, Drycastle) con compositori contemporanei quali Silvia Bianchera Bettinelli\, Biagio Putignano\, Raoul De Smet.  Con la Drycastle ha inoltre inciso repertori di Chopin\, Bach\, Schubert\, Beethoven e musica di autori francesi del primo novecento. Per le sue doti artistiche e umane\, Attesti ha ricevuto importanti riconoscimenti in tre città in USA e in Argentina  Dal 2011 è direttore artistico della Scuola Comunale “U. Cappetti” di Monte S. Savino. \n			\n			\n				\n				\n				\n				\n			\n				\n				\n				\n				\n				\n				\n				\n				\n				\n				\n				\n			\n			\n				\n				\n				\n				\n				\n				\n				\n				\n				\n				Maurizio “Bozorius” Bozzi durante la sua lunga carriera ha collaborato con importanti artisti pop italiani: Pupo\, Masini\, Raf\, Fiordaliso\, Baldi\, Zucchero\, Ramazzotti\, Ranieri\, Falagiani\, Parisini\, Bigazzi. Dal 1981 si dedica anche all’attività jazzistica\, con artisti italiani ed internazionali di grande livello quali Angel “Pocho” Gatti\, Fabrizio Festa\, Larry Coryell\, Alphonse Mouzon\, Al Di Meola\, Ted Curson\, Michel Portal\, Paolo Fresu\, Fabio Morgera\, Stefano Cocco Cantini\, Marco Tamburini\, Shunzo Ono\, Flavio Boltro\, Paolo Fresu\, Burhan Ocal\, Allan Zavod.  Ha inoltre collaborato con formazioni di musica classica contemporanea e in opere teatrali\, e con l’Orchestra Toscanini di Parma e quella del Teatro Comunale di Bologna. Nel 2004 ha fondato l’etichetta discografica indipendente Drycastle records\, producendo oltre 70 cd e diversi metodi didattici\, suoi e di altri musicisti. Ha all’attivo 14 cd jazz e quattro metodi per basso di grande successo pubblicati da Edizioni Berbèn.\n			\n			\n				\n				\n				\n				\n			\n				\n				\n				\n				\n				\n				\n				\n				\n				\n				\n				\n			\n			\n				\n				\n				\n				\n				\n				\n				\n				\n				\n				Maicol Cucchi si diploma con il massimo dei voti presso il conservatorio “F. Morlacchi” di Perugia sotto la guida del M° Domenico Fontana. Collabora con numerose orchestre  tra cui l’Orchestra Sinfonica del conservatorio di musica di Perugia\, l’Orchestra Sinfonica del Trasimeno\, l’Orchestra d’armonia città di Terni\, l’Orchestra e Coro della Papale Basilica di San Francesco in Assisi per la S.S Messa in onore di San Francesco d’Assisi in Basilica Superiore. Suona inoltre con “Flos Vocalis” ad Ay-champagne (Francia); con l’orchestra di fiati e percussioni del Corciano Festival; e con il gruppo musicale “Tetraktis Percussioni Young”. Nel 2010 e 2016 fa parte del “Sarteano jazz & blues festival” con le jazz band “Fiatisulcollo” e “Dixi Band Street Parade”. Ha inoltre collaborato con gli artisti: Patti Pravo\, Gigi D’ alessio\, Iva Zanicchi\, Mariano Apicella\, Anna Bettozzi. Attualmente svolge un’intensa attività didattica e concertistica.\n			\n			\n				\n				\n				\n				\n			\n				\n				\n				\n				\n				\n				\n				\n				\n				\n				\n				>Intermezzo\n			\n			\n				\n				\n				\n				\n			\n				\n				\n				\n				\n				\n				\n				\n				\n				\n				\n				Nel corso della serata ci sarà una pausa in cui il pubblico sarà invitato a un momento conviviale\, con deliziosi assaggi preparati dall’Azienda Agrirosmarina di Manziana (RM).\n			\n			\n				\n				\n				\n				\n			\n				\n				\n				\n				\n				\n				\n				\n				\n				\n				\n				> Info\n			\n			\n				\n				\n				\n				\n			\n				\n				\n				\n				\n				\n				\n				\n				\n				\n				\n				Posti limitati.\nConsigliamo di prenotare.\nLista d’attesa all’ingresso.\n			\n			\n				\n				\n				\n				\n				\n				\n				\n				\n				\n				Informazioni e prenotazioni\n375 5127096 – 339 4981834\ninfo@casanaveallemura.com\n			\n			\n				\n				\n				\n				\n				\n				\n				\n				\n				\n				CasaNave Alle Mura\nVia Nazario Sauro 8\nTuscania\, VT
URL:https://casanaveallemura.com/evento/stairway-to-bach/
LOCATION:CasaNave alle Mura
CATEGORIES:Concerto
ATTACH;FMTTYPE=image/png:https://casanaveallemura.com/wp-content/uploads/2023/06/Stairway-cnamweb.png
END:VEVENT
END:VCALENDAR