BEGIN:VCALENDAR
VERSION:2.0
PRODID:-//CasaNave Alle Mura - ECPv6.15.17//NONSGML v1.0//EN
CALSCALE:GREGORIAN
METHOD:PUBLISH
X-ORIGINAL-URL:https://casanaveallemura.com
X-WR-CALDESC:Eventi per CasaNave Alle Mura
REFRESH-INTERVAL;VALUE=DURATION:PT1H
X-Robots-Tag:noindex
X-PUBLISHED-TTL:PT1H
BEGIN:VTIMEZONE
TZID:Europe/Paris
BEGIN:DAYLIGHT
TZOFFSETFROM:+0100
TZOFFSETTO:+0200
TZNAME:CEST
DTSTART:20230326T010000
END:DAYLIGHT
BEGIN:STANDARD
TZOFFSETFROM:+0200
TZOFFSETTO:+0100
TZNAME:CET
DTSTART:20231029T010000
END:STANDARD
BEGIN:DAYLIGHT
TZOFFSETFROM:+0100
TZOFFSETTO:+0200
TZNAME:CEST
DTSTART:20240331T010000
END:DAYLIGHT
BEGIN:STANDARD
TZOFFSETFROM:+0200
TZOFFSETTO:+0100
TZNAME:CET
DTSTART:20241027T010000
END:STANDARD
BEGIN:DAYLIGHT
TZOFFSETFROM:+0100
TZOFFSETTO:+0200
TZNAME:CEST
DTSTART:20250330T010000
END:DAYLIGHT
BEGIN:STANDARD
TZOFFSETFROM:+0200
TZOFFSETTO:+0100
TZNAME:CET
DTSTART:20251026T010000
END:STANDARD
END:VTIMEZONE
BEGIN:VEVENT
DTSTART;TZID=Europe/Paris:20240203T210000
DTEND;TZID=Europe/Paris:20240203T230000
DTSTAMP:20260423T085631
CREATED:20240109T184848Z
LAST-MODIFIED:20240203T153016Z
UID:4556-1706994000-1707001200@casanaveallemura.com
SUMMARY:La Canzone Teatro di Canio Loguercio
DESCRIPTION:“È un progetto completamente acustico\, senza ritmica\, in cui cerco di proporre il mio approccio alla canzone in lingua napoletana\, con brani originali o della tradizione\, attraverso una modalità decisamente intima.” \nCANIO LOGUERCIO in A Fil’ ‘e Voce\ncon \nGIOVANNA FAMULARI (violoncello)BRUNO ZOIA (contrabbasso)MASSIMO ANTONIETTI (chitarra) \nUn viaggio lento fra “ammore” e memoria che si intrecciano sullo sfondo di un paesaggio immaginario\, lungo il filo di una storia provvisoria che si avvolge continuamente su se stessa.Un racconto fra struggimenti e smarrimenti\, con le canzoni più famose del repertorio di Canio Loguercio e altri inediti tratti dall’ultimo album “A fil’’e voce” riarrangiati ed eseguiti da un gruppo di musicisti straordinari. \n“Tendenzialmente\, estremizzando\, vorrei quasi riuscire a cantare in silenzio e immaginare un concerto come una sorta di buco nero in cui tutta l’enorme energia che contiene una canzone possa svelarsi\, per l’appunto\, attraverso un sottile “filo di voce”.Mi accompagnano Giovanna Famulari al violoncello\, Massimo Antonietti alla chitarra\, Bruno Zoia al contrabbasso. Ma in questi 12 brani “a fil’e voce”\, fra cui gli inediti “Nuttata senza Dio” scritto da Paolo Varriale e una particolarissima versione di Maruzzella\, c’è soprattutto Napoli\, quella della sua lingua patrimonio dell’umanità\, una Napoli più che intima\, direi interiorizzata\, un luogo dell’anima in cui il mio incontro/confronto con la tradizione si manifesta attraverso la suggestione esercitata dalla canzone napoletana che irrompe prepotentemente con la forza della sua irresistibile seduzione.” \nA fine concerto\, pubblico\, artisti e staff condividono un momento conviviale\, con un bicchiere di vino e l’assaggio di un cibo intonato all’occasione\, preparato e offerto da Azienda Rosmarina. \n			\n				\n				\n				\n				\n				PROGRAMMA “A FIL’ ‘E VOCE”\nUva Spina (Loguercio-De Rosa-Loguercio)\nMaruzzella (Carosone-Bonagura)\nAmaro Amore (Loguercio-De Rosa-Loguercio)\nNuttata Senza Dio (Paolo Varriale)\nLa Ballata Dell’Ipocondria (Canio Loguercio)\nT’aspetto ‘Ccà (De Rosa-Loguercio)\nFerrarella (De Rosa-Loguercio)\nCore ‘Ngrato (Riccardo Cordiferro–Salvatore Cardillo)\nLuntano Ammore (Loguercio-De Rosa-Loguercio-Caiano)\nQuello Che Rimane (Canio Loguercio)\nE Mo’ (Canio Loguercio)\nCumpa’ (Loguercio-De Rosa-Loguercio)\n			\n			\n				\n				\n				\n				\n			\n				\n				\n				\n				\n				\n				\n				\n				\n				\n				\n				> biografie \n			\n			\n				\n				\n				\n				\n			\n				\n				\n				\n				\n				\n				\n				\n				\n				\n				\n				\n			\n			\n				\n				\n				\n				\n				\n				\n				\n				\n				\n				Musicista e performer\, Canio Loguercio è autore di progetti “crossover” all’incrocio fra canzone d’autore\, poesia e teatro. Vincitore Targa Tenco nel 2017\, e finalista per le Targhe Tenco 2021 e 2023\, ha pubblicato sei album\, vari singoli e ideato numerosi progetti musicali e promosso diverse iniziative interculturali. \n			\n				\n				\n				\n				\n				\n\n\nGiovanna Famulari\, violoncellista\, pianista\, arrangiatrice e produttrice musicale\, spazia tra vari generi e stili musicali passando dal teatro\, ai concerti\, alle colonne sonore\, collaborando con diversi artisti\, sia in Italia che all’estero come Tosca\, con cui lavora stabilmente\, Moni Ovadia e tanti altri. \n\n\n\n			\n				\n				\n				\n				\n				\n\n\n\n\n\nMassimo Antonietti\, chitarrista di estrazione classica ha poi perfezionato gli studi del linguaggio jazzistico. Docente di classica e jazz e concertista\, vanta numerose collaborazioni musicali anche per il teatro a livello nazionale ed internazionale. \n\n\n\n\n\n\n			\n				\n				\n				\n				\n				\n\n\n\n\n\n\n\n\nBruno Zoia\, contrabbassista\, ha suonato in orchestre liriche e sinfoniche\, e collaborato con numerosi musicisti della scena jazz internazionale. Da oltre vent’anni si dedica anche alla musica etnica\, ha composto colonne sonore per il cinema e il teatro\, ha inciso diversi album e animato la scena musicale in tutta Europa con il quartetto Mish Mash. \n\n\n\n\n\n\n\n\n\n			\n			\n				\n				\n				\n				\n			\n				\n				\n				\n				\n				\n				\n				\n				\n				\n				\n				> info\n			\n			\n				\n				\n				\n				\n			\n				\n				\n				\n				\n				\n				\n				\n				\n				\n				\n				Contributo all’evento: \n\nminimo consigliato €15\n\n			\n			\n				\n				\n				\n				\n				\n				\n				\n				\n				\n				Informazioni e prenotazioni  375 5127096info@casanaveallemura.com \n			\n			\n				\n				\n				\n				\n			\n				\n				\n				\n				\n				\n				\n				\n				\n				\n				\n				torna alla programmazione
URL:https://casanaveallemura.com/evento/a-fil-e-voce/
LOCATION:CasaNave alle Mura
CATEGORIES:Concerto
ATTACH;FMTTYPE=image/png:https://casanaveallemura.com/wp-content/uploads/2024/01/Canio-x-Sito.png
END:VEVENT
END:VCALENDAR