BEGIN:VCALENDAR
VERSION:2.0
PRODID:-//CasaNave Alle Mura - ECPv6.15.17//NONSGML v1.0//EN
CALSCALE:GREGORIAN
METHOD:PUBLISH
X-WR-CALNAME:CasaNave Alle Mura
X-ORIGINAL-URL:https://casanaveallemura.com
X-WR-CALDESC:Eventi per CasaNave Alle Mura
REFRESH-INTERVAL;VALUE=DURATION:PT1H
X-Robots-Tag:noindex
X-PUBLISHED-TTL:PT1H
BEGIN:VTIMEZONE
TZID:Europe/Paris
BEGIN:DAYLIGHT
TZOFFSETFROM:+0100
TZOFFSETTO:+0200
TZNAME:CEST
DTSTART:20240331T010000
END:DAYLIGHT
BEGIN:STANDARD
TZOFFSETFROM:+0200
TZOFFSETTO:+0100
TZNAME:CET
DTSTART:20241027T010000
END:STANDARD
BEGIN:DAYLIGHT
TZOFFSETFROM:+0100
TZOFFSETTO:+0200
TZNAME:CEST
DTSTART:20250330T010000
END:DAYLIGHT
BEGIN:STANDARD
TZOFFSETFROM:+0200
TZOFFSETTO:+0100
TZNAME:CET
DTSTART:20251026T010000
END:STANDARD
BEGIN:DAYLIGHT
TZOFFSETFROM:+0100
TZOFFSETTO:+0200
TZNAME:CEST
DTSTART:20260329T010000
END:DAYLIGHT
BEGIN:STANDARD
TZOFFSETFROM:+0200
TZOFFSETTO:+0100
TZNAME:CET
DTSTART:20261025T010000
END:STANDARD
END:VTIMEZONE
BEGIN:VEVENT
DTSTART;TZID=Europe/Paris:20250106T180000
DTEND;TZID=Europe/Paris:20250106T200000
DTSTAMP:20260422T134721
CREATED:20241227T140914Z
LAST-MODIFIED:20241227T144850Z
UID:5574-1736186400-1736193600@casanaveallemura.com
SUMMARY:Familytoon in musica
DESCRIPTION:Familytoon in Musica – famiglie animate in festa\, music games\n\n\n\n\n\nLa M.A.K.K.A. Cartoon Cover Band è composta da un gruppo di musicisti appassionati delle sigle di cartoni animati che hanno segnato la loro infanzia\, e che loro trasformano in potenti brani rock! Con un mix di chitarre elettriche\, batteria energica e melodie indimenticabili\, rifanno il verso a classici come “Dragon Ball”\, “Ufo Robot”\, “Pokémon” e tanti altri\, regalando a grandi e piccini un’esperienza musicale unica. \nIl loro sound è una fusione esplosiva di rock\, metal e punk\, arricchita da arrangiamenti originali che rendono ogni brano fresco e coinvolgente. Ogni performance è un viaggio nostalgico che riporta alla memoria le avventure dei nostri eroi animati\, ma con l’energia travolgente di un concerto rock! \n6 gennaio 2024 – alle ore 18:00\nCasaNave Alle Mura\, Via Nazario Sauro 8\, Tuscania\n \nCi aspettiamo che a un certo punto dello spettacolo la Befana faccia la sua comparsa a CasaNave per la gioia di bambine e bambini!\n  \n\n\n\n\n			\n			\n				\n				\n				\n				\n			\n				\n				\n				\n				\n				\n				\n				\n				\n				\n				\n				\n			\n				\n				\n				\n				\n				\n			\n			\n				\n				\n				\n				\n				\n				\n				\n				\n				\n				Fondata nel 2021\, nel mezzo delle restrizioni dovute alla pandemia\, la M.A.K.K.A. Cartoon Cover Band nasce dall’incontro di musicisti accomunati dalla passione per i cartoni animati. Fin dai primi giorni\, l’ensemble ha dedicato il proprio repertorio alla reinterpretazione delle sigle dei cartoni\, riuscendo a combinare nostalgia e modernità in uno stile distintivo e coinvolgente. Nel corso degli anni\, la formazione ha subito alcune modifiche\, cambiamenti che hanno contribuito a rafforzare e definire ulteriormente la direzione artistica del gruppo. Con il tempo\, il focus musicale si è stabilizzato sul rock\, che oggi rappresenta il nucleo dell’identità della band. La profonda passione per l’animazione non è soltanto una fonte d’ispirazione\, ma una componente essenziale che permea sia il repertorio che le esibizioni dal vivo. Ogni performance mira a creare un’esperienza unica per il pubblico\, celebrando l’immaginario dei cartoni animati attraverso il linguaggio universale della musica rock. \n			\n			\n				\n				\n				\n				\n			\n				\n				\n				\n				\n				\n				\n				\n				\n				\n				\n				torna alla programmazione\n			\n			\n				\n				\n				\n				\n			\n				\n				\n				\n				\n				\n				\n				\n				\n				\n				\n				> info\n			\n			\n				\n				\n				\n				\n			\n				\n				\n				\n				\n				\n				\n				\n				\n				\n				\n				L’Associazione Kinesfera promuove attività artistico-culturali che favoriscono la diffusione dell’auto-apprendimento e dei processi di integrazione corpo-mente\, in ambito educativo\, socio-sanitario\, culturale e artistico. Svolge attività musicale continuativa con l’obiettivo di contribuire alla formazione del pubblico\, allo sviluppo culturale e sociale della comunità e alla valorizzazione della trasversalità e dello scambio intergenerazionale. \n			\n			\n				\n				\n				\n				\n				\n				\n				\n				\n				\n				CasaNave Alle Mura – Via Nazario Sauro 8\, Tuscania\nInformazioni e prenotazioni 375 512 7096 – 339 4981834\nEmail: info@casanaveallemura.com
URL:https://casanaveallemura.com/evento/familytoon-in-musica/
LOCATION:CasaNave alle Mura
CATEGORIES:Concerto
ATTACH;FMTTYPE=image/png:https://casanaveallemura.com/wp-content/uploads/2024/12/MAKKA-per-sito-2.png
END:VEVENT
END:VCALENDAR