BEGIN:VCALENDAR
VERSION:2.0
PRODID:-//CasaNave Alle Mura - ECPv6.15.17//NONSGML v1.0//EN
CALSCALE:GREGORIAN
METHOD:PUBLISH
X-WR-CALNAME:CasaNave Alle Mura
X-ORIGINAL-URL:https://casanaveallemura.com
X-WR-CALDESC:Eventi per CasaNave Alle Mura
REFRESH-INTERVAL;VALUE=DURATION:PT1H
X-Robots-Tag:noindex
X-PUBLISHED-TTL:PT1H
BEGIN:VTIMEZONE
TZID:Europe/Paris
BEGIN:DAYLIGHT
TZOFFSETFROM:+0100
TZOFFSETTO:+0200
TZNAME:CEST
DTSTART:20240331T010000
END:DAYLIGHT
BEGIN:STANDARD
TZOFFSETFROM:+0200
TZOFFSETTO:+0100
TZNAME:CET
DTSTART:20241027T010000
END:STANDARD
BEGIN:DAYLIGHT
TZOFFSETFROM:+0100
TZOFFSETTO:+0200
TZNAME:CEST
DTSTART:20250330T010000
END:DAYLIGHT
BEGIN:STANDARD
TZOFFSETFROM:+0200
TZOFFSETTO:+0100
TZNAME:CET
DTSTART:20251026T010000
END:STANDARD
BEGIN:DAYLIGHT
TZOFFSETFROM:+0100
TZOFFSETTO:+0200
TZNAME:CEST
DTSTART:20260329T010000
END:DAYLIGHT
BEGIN:STANDARD
TZOFFSETFROM:+0200
TZOFFSETTO:+0100
TZNAME:CET
DTSTART:20261025T010000
END:STANDARD
END:VTIMEZONE
BEGIN:VEVENT
DTSTART;TZID=Europe/Paris:20250308T180000
DTEND;TZID=Europe/Paris:20250720T213000
DTSTAMP:20260422T002436
CREATED:20250131T152716Z
LAST-MODIFIED:20250514T100333Z
UID:5682-1741456800-1753047000@casanaveallemura.com
SUMMARY:Musica e altre storie
DESCRIPTION:MUSICA E ALTRE STORIE\nRassegna di musica\, testi e racconti\n \n\nSabato 8 marzo h 21:00 –  “Canzoni e storie di donne”\n\nCon: Bluesy\, Onlysara\, Zoe\, Mad. La rassegna s’inaugura nel giorno della Festa della Donna. Un gruppo di giovani cantanti donne eseguono brani di musica pop inframmezzati a testimonianze\, citazioni\, letture e interazioni con il pubblico\, su tematiche di genere. Conduce\, Ginevra Infascelli \n\nSabato 5 aprile h 21:00 –  “Studio per la messinscena di un monologo con canzoni tristi”\n\nCanio Loguercio torna a CasaNave con una solo performance di canzoni e testi da lui scritti e inseriti nel libro il libro  “Cantare il disincanto – disagio e malinconia nella canzone d’autore negli anni del miracolo economico” di Giulio De Martino. \n\nSabato 17 maggio h 21:00 –  “Do you believe or not”\n\nAndrea Araceli in Trio. In equilibrio tra jazz e contemporaneità\, alla ricerca di una via contemplativa\, il pianista viterbese Araceli presenta il suo nuovo lavoro con Steven Laye al basso e Alberto Corsi alla batteria. \n\nSabato 14 giugno h 21:00 – Luigi Cinque in “Note e parole dalla navicella”  con Pepè Fiore alle tabla e Daniele Valle alla chitarra\, con la partecipazione di Simone Pulvano alle percussioni. Racconti di musica\, di incontri straordinari\, di India\, di Yemen\, Africa\, Brasile\, e Italia. Reading di poesie. Ritmo e meditazione.\n\nDomenica 20 luglio h 16:30 – 21:00 – “Chi poteva immaginarlo?”\n\n\nA cura di Piera Teatini. Una celebrazione dell’irriducibile creatività umana: nella musica\, nella poesia\, nelle arti e nella vita. In memoria vivente di Antonio Pezzinga\nh 16:30 Apertura e benvenuto\nh 17:00 – 18:00 Workshop Bimbi con Alessandra Berardi\nh 18:00 – 19:00 Tavola rotonda moderata da Daniela Pozzi\nh 19:00 – 19:30 Momento conviviale\nh 20:00 Concerto con Leila e Sara Shirvani\, Matilda Sasselli \n  \nDirezione artistica Gloria Desideri\n			\n				\n				\n				\n				\n				L’Associazione Kinesfera promuove attività artistico-culturali che favoriscono la diffusione dell’auto-apprendimento e dei processi di integrazione corpo-mente\, in ambito educativo\, socio-sanitario\, culturale e artistico. Svolge attività musicale continuativa con l’obiettivo di contribuire alla formazione del pubblico\, allo sviluppo culturale e sociale della comunità e alla valorizzazione della trasversalità e dello scambio intergenerazionale.\n			\n			\n				\n				\n				\n				\n			\n				\n				\n				\n				\n				\n				\n				\n				\n				\n				\n				\n			\n				\n				\n				\n				\n				\n			\n			\n				\n				\n				\n				\n				\n				\n				\n				\n				\n				\n			\n			\n				\n				\n				\n				\n			\n				\n				\n				\n				\n				\n				\n				\n				\n				\n				\n				torna alla programmazione\n			\n			\n				\n				\n				\n				\n			\n				\n				\n				\n				\n				\n				\n				\n				\n				\n				\n				> info\n			\n			\n				\n				\n				\n				\n			\n				\n				\n				\n				\n				\n				\n				\n				\n				\n				\n				\n			\n			\n				\n				\n				\n				\n				\n				\n				\n				\n				\n				CasaNave Alle Mura – Via Nazario Sauro 8\, Tuscania\nInformazioni e prenotazioni 375 512 7096 – 339 4981834\nEmail: info@casanaveallemura.com
URL:https://casanaveallemura.com/evento/musica-altre-storie-3/
LOCATION:CasaNave alle Mura
CATEGORIES:Rassegna musicale
ATTACH;FMTTYPE=image/png:https://casanaveallemura.com/wp-content/uploads/2025/01/Musica-e-altre-storie-cut-OK.png
END:VEVENT
END:VCALENDAR