BEGIN:VCALENDAR
VERSION:2.0
PRODID:-//CasaNave Alle Mura - ECPv6.15.17//NONSGML v1.0//EN
CALSCALE:GREGORIAN
METHOD:PUBLISH
X-ORIGINAL-URL:https://casanaveallemura.com
X-WR-CALDESC:Eventi per CasaNave Alle Mura
REFRESH-INTERVAL;VALUE=DURATION:PT1H
X-Robots-Tag:noindex
X-PUBLISHED-TTL:PT1H
BEGIN:VTIMEZONE
TZID:Europe/Paris
BEGIN:DAYLIGHT
TZOFFSETFROM:+0100
TZOFFSETTO:+0200
TZNAME:CEST
DTSTART:20240331T010000
END:DAYLIGHT
BEGIN:STANDARD
TZOFFSETFROM:+0200
TZOFFSETTO:+0100
TZNAME:CET
DTSTART:20241027T010000
END:STANDARD
BEGIN:DAYLIGHT
TZOFFSETFROM:+0100
TZOFFSETTO:+0200
TZNAME:CEST
DTSTART:20250330T010000
END:DAYLIGHT
BEGIN:STANDARD
TZOFFSETFROM:+0200
TZOFFSETTO:+0100
TZNAME:CET
DTSTART:20251026T010000
END:STANDARD
BEGIN:DAYLIGHT
TZOFFSETFROM:+0100
TZOFFSETTO:+0200
TZNAME:CEST
DTSTART:20260329T010000
END:DAYLIGHT
BEGIN:STANDARD
TZOFFSETFROM:+0200
TZOFFSETTO:+0100
TZNAME:CET
DTSTART:20261025T010000
END:STANDARD
BEGIN:DAYLIGHT
TZOFFSETFROM:+0100
TZOFFSETTO:+0200
TZNAME:CEST
DTSTART:20270328T010000
END:DAYLIGHT
BEGIN:STANDARD
TZOFFSETFROM:+0200
TZOFFSETTO:+0100
TZNAME:CET
DTSTART:20271031T010000
END:STANDARD
END:VTIMEZONE
BEGIN:VEVENT
DTSTART;TZID=Europe/Paris:20250920T210000
DTEND;TZID=Europe/Paris:20251213T233000
DTSTAMP:20260421T210027
CREATED:20250913T171502Z
LAST-MODIFIED:20251206T092654Z
UID:5720-1758402000-1765668600@casanaveallemura.com
SUMMARY:Musica e Altre Storie - Autunno
DESCRIPTION:MUSICA E ALTRE STORIE – AUTUNNO 2025\nRassegna di incontri musicali \n\nSabato 20 settembre h 21:00 –  “ROCK: BACK TO THE FUTURE”\n\nVincitori del Music Contest Giovani della Tuscia 2024\, i ragazzi della band indie-rock di Viterbo\, COOL CATS\, presentano un repertorio di loro brani originali\, tra cui alcuni inediti e altri disponibili sulle piattaforme. Suoneranno inoltre cover di un repertorio di musica a cui il gruppo si richiama\, con brani che vanno dagli anni ’60 fino ad oggi. Apre la serata un’altra band del territorio\, WHY NOT?\, tre musiciste e due musicisti che propongono un repertorio fresco e coinvolgente\, un “misto” di brani pop e rock da loro rivisitati e arrangiati in modo originale. \n\nSabato 11 ottobre h 21:00 –  “NEON CHRONOS – PERFORMANCE PER CORPO E DISPOSITIVI ELETTROACUSTICI”\n\nDi e con MARIELLA CELIA e IVAN MACERA. Un progetto che riflette sul tempo\, sul rumore e sullo stato dei corpi in relazione allo sviluppo tecnologico; due pratiche che si confrontano\, movimento e suono\, corpo e macchine; due ricerche in dialogo per delineare il rapporto tra organico e meccanico tramite l’azione performativa. Il set utilizza dispositivi come hard disk modificati\, neon\, floppy drive\, walkman\, motori elettrici e un basso aumentato\, accomunati dal suono generato tramite rotazione – flussi timbrici che invitano alla contemplazione e all’esplorazione di spazi sonori e forme corporee.  \n\nSabato 15 novembre h 21:00 –  “LIGHTS ET LUMIERES” \n\nIl DUOKEIRA PIANO DUO di Michela Chiara Borghese e Sabrina De Carlo ritorna a CasaNave con un nuovo programma. In questo concerto\, attraverso le musiche di Gershwin\, Debussy e Ravel\, per pianoforte a quattro mani\, Michela e Sabrina fanno emerge un ritratto affascinante di due città che hanno segnato l’immaginario collettivo del Novecento: New York e Parigi – un dialogo fra due culture e stili di musica che\, dalle due sponde dell’oceano\, cercano l’una nell’altra quello che a ciascuna manca\,  \n\nSabato 13 dicembre h 21:00 – “PROGETTO ORGANETTO”\n\nConcerto per organetto preparato ed elettronica di e con ALESSANDRO D’ALESSANDRO. Qui D’Alessandro esplora la forma canzone e mondi musicali diversi con grande ricerca creativa. Brani anche molto noti vengono elaborati attraverso un uso molto personale dell’elettronica\, dell’effettistica\, dei loop in tempo reale\, con sovrapposizioni armoniche e ritmiche\, e usando l’organetto perfino come strumento di percussione. Ne risulta una musica che sembra avere ‘il respiro di un’orchestra’. \n\n \n\nDirezione artistica Gloria Desideri \nOrganizzazione Associazione Kinesfera APS \n			\n				\n				\n				\n				\n				L’Associazione Kinesfera promuove attività artistico-culturali che favoriscono la diffusione dell’auto-apprendimento e dei processi di integrazione corpo-mente\, in ambito educativo\, socio-sanitario\, culturale e artistico. Svolge attività musicale continuativa con l’obiettivo di contribuire alla formazione del pubblico\, allo sviluppo culturale e sociale della comunità e alla valorizzazione della trasversalità e dello scambio intergenerazionale. \n			\n			\n				\n				\n				\n				\n			\n				\n				\n				\n				\n				\n				\n				\n				\n				\n				\n				> biografie \n			\n			\n				\n				\n				\n				\n			\n				\n				\n				\n				\n				\n				\n				\n				\n				\n				\n				\n			\n				\n				\n				\n				\n				\n			\n				\n				\n				\n				\n				\n			\n				\n				\n				\n				\n				\n			\n				\n				\n				\n				\n				\n			\n			\n				\n				\n				\n				\n				\n				\n				\n				\n				\n				i COOL CATS sono una rock band di cinque elementi nata nel 2022 da un gruppo di ragazzi di Viterbo che si sono incontrati a scuola e da allora hanno condiviso la passione per la musica\, l’impegno allo studio degli strumenti e dei repertori e che da subito hanno iniziato a sperimentare e comporre. Al loro singolo di debutto “Teary Eyes”\, sono seguiti altri brani originali poi raccolti nel loro primo EP “0%”. Nel 2024 sono entrati in finale a Sanremo Rock e Trend con il loro brano “Shining\, it’s not for me”. Si esibiscono in vari concerti amatoriali e continuano a far uscire nuova musica.\n			\n				\n				\n				\n				\n				I WHYNOT? è il gruppo che apre la serata: tre giovani musiciste e due musicisti di Tarquinia. Uniti dalla grande passione per la musica\, e dall’impegno sia per lo studio sia per il lavoro di gruppo\, si esibiscono partecipando a vari eventi sul territorio. Sono stati apprezzati e si sono classificati secondi nel Music Contest Giovani della Tuscania organizzato da Kinesfera a CasaNave Alle Mura nel 2024.\n			\n				\n				\n				\n				\n				IVAN MACERA\, sound artist\, percussionista e docente\, basa i suoi studi su un approccio personale dove la radice è la sperimentazione e l’improvvisazione. Attualmente la sua ricerca è focalizzata su progettazione e costruzione di dispositivi sonori elettromeccanici\, strumenti che utilizza in ambito performativo ed educativo. \nMARIELLA CELIA danzatrice\, coreografa\, educatrice del movimento somatico (Body-Mind Centering®). si interessa a pratiche di consapevolezza ed espressione che coinvolgono l’interazione sinergica tra corpo\, mente e ambiente. La sua ricerca individua nei principi che regolano l’organismo e la percezione la fonte d’ispirazione per espandere l’immaginario del gesto.\n			\n				\n				\n				\n				\n				\n\n\n\nALESSANDRO D’ALESSANDRO uno dei più talentuosi organettisti italiani ed europei\, è particolarmente apprezzato per la tecnica\, la versatilità e la ricerca timbrica\, che gli hanno permesso di portare uno strumento tipico della tradizione popolare\, come l’organetto\, a ‘dialogare’ con i più svariati ambienti musicali e artistici.  Pioniere nell’utilizzo dell’elettronica applicata al suo strumento\, ha inoltre creato un originale sistema di percussione dell’organetto. Il termine ‘organetto preparato’ deriva dal fatto di unire modulazione continua del suono tramite elettronica e dall’utilizzo di oggetti vari ‘applicati’ direttamente allo strumento. Il suo album ‘Canzoni’ è stato eletto miglior album di world music italiana per il 2021. \n\n\n\n\n			\n				\n				\n				\n				\n				\n\n\n\nIL DUOKEIRA PIANO DUO  nasce nel 2008 da Michela Chiara Borghese e Sabrina De Carlo\, da una parte\, come luogo di confronto tra le concezioni intellettuali e le sensibilità delle due pianiste tra loro molto diverse per temperamento e formazione\, dall’altra come dialogo tra le musiciste e il pubblico durante i concerti. Entrambe appassionate di musica da camera e costantemente mosse dal desiderio di innovare\, Michela e Sabrina riconfigurano continuamente il loro repertorio\, giustapponendo a composizioni classiche per duo pianistico trascrizioni di brani orchestrali e opere di compositori contemporanei. Accanto ai concerti tradizionali in prestigiose sale in Italia e all’estero\, il DuoKeira mette in scena spettacoli informali e sperimentali in spazi privati e pubblici. \n\n\n\n\n			\n			\n				\n				\n				\n				\n			\n				\n				\n				\n				\n				\n				\n				\n				\n				\n				\n				torna alla programmazione \n			\n			\n				\n				\n				\n				\n			\n				\n				\n				\n				\n				\n				\n				\n				\n				\n				\n				> info\n			\n			\n				\n				\n				\n				\n			\n				\n				\n				\n				\n				\n				\n				\n				\n				\n				\n				Gli eventi musicali a CasaNave sono possibili grazie al lavoro volontario dello staff di Kinesfera e al sostegno del pubblico. Contributo consigliato per evento: €15\, inclusi il calice di vino e qualche spizzico nel consueto momento conviviale.\n			\n			\n				\n				\n				\n				\n				\n				\n				\n				\n				\n				CasaNave Alle Mura – Via Nazario Sauro 8\, TuscaniaInformazioni e prenotazioni 375 512 7096 – 339 4981834Email: info@casanaveallemura.com
URL:https://casanaveallemura.com/evento/musica-altre-storie/
LOCATION:CasaNave alle Mura
CATEGORIES:Rassegna musicale
ATTACH;FMTTYPE=image/jpeg:https://casanaveallemura.com/wp-content/uploads/2025/09/Locandina-MAS-Autunno-25_3.jpg
END:VEVENT
BEGIN:VEVENT
DTSTART;TZID=Europe/Paris:20260214T210000
DTEND;TZID=Europe/Paris:20260613T233000
DTSTAMP:20260421T210028
CREATED:20260220T165959Z
LAST-MODIFIED:20260222T172640Z
UID:6282-1771102800-1781393400@casanaveallemura.com
SUMMARY:Musica e altre storie 2026 - Primavera
DESCRIPTION:MUSICA E ALTRE STORIE 2026 – Primavera\nRassegna di musica\, incontri e racconti \n\nSabato 14 febbraio h 21:00 –  “Racconti di sport e ballate popolari” di e con Marco Pastonesi\, musiche e canti di Gian Michele Montanaro\n\n\nSabato 14 marzo h 21:00 –  “Una Sceneggiata”\, con il cantautore e chitarrista Francesco Forni\n\n\nSabato 18 aprile h 21:00 –  “Cantu di terra\, vuci di donna” di Simona Sciacca\, voce e tamburo a cornice\, con Mauro Menegazzi\, fisarmonica\, Alessandro Chimienti\, chitarra.\n\n\nSabato 16 maggio h 21:00 – “Un’altra Roma” con Antonella Costanzo e Antonio Ragosta alle chitarre.\n\n\nSabato 13 giugno h 21:00 – “Quannu esse la sira” con Nìula di Francesco Rina e Maria Sgro\, voci\, chitarra\, tamburi a cornice\, tastiera.\n\n\nDomenica 14 giugno h 10:00 – “Fili di Voce” workshop di canti polifonici dal Sud\, condotto da Francesco Rina e Maria Sgro.\n\n  \nDirezione artistica Gloria Desideri\, con la consulenza del musicista Alessandro D’Alessandro. \n			\n				\n				\n				\n				\n				MUSICA E ALTRE STORIE è un progetto promosso annualmente da Associazione Kinesfera APS  \nL’Associazione Kinesfera promuove a Tuscania attività artistico-culturali che favoriscono la diffusione dell’auto-apprendimento e dei processi di integrazione corpo-mente\, in ambito educativo\, socio-sanitario\, culturale e artistico. Svolge attività musicale continuativa con l’obiettivo di contribuire alla formazione del pubblico\, allo sviluppo culturale e sociale della comunità e alla valorizzazione della trasversalità e dello scambio intergenerazionale. \n  \n			\n			\n				\n				\n				\n				\n			\n				\n				\n				\n				\n				\n				\n				\n				\n				\n				\n				\n			\n			\n				\n				\n				\n				\n				\n				\n				\n				\n				\n				\n			\n			\n				\n				\n				\n				\n			\n				\n				\n				\n				\n				\n				\n				\n				\n				\n				\n				torna alla programmazione\n			\n			\n				\n				\n				\n				\n			\n				\n				\n				\n				\n				\n				\n				\n				\n				\n				\n				> info\n			\n			\n				\n				\n				\n				\n			\n				\n				\n				\n				\n				\n				\n				\n				\n				\n				\n				\n			\n			\n				\n				\n				\n				\n				\n				\n				\n				\n				\n				CasaNave Alle Mura – Via Nazario Sauro 8\, Tuscania\nInformazioni e prenotazioni 375 512 7096 – 339 4981834\nEmail: info@casanaveallemura.com
URL:https://casanaveallemura.com/evento/musica-altre-storie-26-primavera/
LOCATION:CasaNave alle Mura
CATEGORIES:Rassegna musicale
ATTACH;FMTTYPE=image/png:https://casanaveallemura.com/wp-content/uploads/2026/02/LOCANDINA-MAS-2026-DEF.png
END:VEVENT
END:VCALENDAR