BEGIN:VCALENDAR
VERSION:2.0
PRODID:-//CasaNave Alle Mura - ECPv6.15.17//NONSGML v1.0//EN
CALSCALE:GREGORIAN
METHOD:PUBLISH
X-ORIGINAL-URL:https://casanaveallemura.com
X-WR-CALDESC:Eventi per CasaNave Alle Mura
REFRESH-INTERVAL;VALUE=DURATION:PT1H
X-Robots-Tag:noindex
X-PUBLISHED-TTL:PT1H
BEGIN:VTIMEZONE
TZID:Europe/Paris
BEGIN:DAYLIGHT
TZOFFSETFROM:+0100
TZOFFSETTO:+0200
TZNAME:CEST
DTSTART:20220327T010000
END:DAYLIGHT
BEGIN:STANDARD
TZOFFSETFROM:+0200
TZOFFSETTO:+0100
TZNAME:CET
DTSTART:20221030T010000
END:STANDARD
BEGIN:DAYLIGHT
TZOFFSETFROM:+0100
TZOFFSETTO:+0200
TZNAME:CEST
DTSTART:20230326T010000
END:DAYLIGHT
BEGIN:STANDARD
TZOFFSETFROM:+0200
TZOFFSETTO:+0100
TZNAME:CET
DTSTART:20231029T010000
END:STANDARD
BEGIN:DAYLIGHT
TZOFFSETFROM:+0100
TZOFFSETTO:+0200
TZNAME:CEST
DTSTART:20240331T010000
END:DAYLIGHT
BEGIN:STANDARD
TZOFFSETFROM:+0200
TZOFFSETTO:+0100
TZNAME:CET
DTSTART:20241027T010000
END:STANDARD
END:VTIMEZONE
BEGIN:VEVENT
DTSTART;TZID=Europe/Paris:20230923T203000
DTEND;TZID=Europe/Paris:20231125T230000
DTSTAMP:20260423T131510
CREATED:20230815T173041Z
LAST-MODIFIED:20240203T154400Z
UID:4064-1695501000-1700953200@casanaveallemura.com
SUMMARY:MusichErranti - Rassegna musicale
DESCRIPTION:Con la nuova rassegna d’autunno\, MUSICHERRANTI\, e la direzione artistica di Gloria Desideri e Tullio Forlenza\, l’Associazione Kinesfera rinnova il suo impegno affinché a Tuscania si stabilisca un polo musicale di riferimento per il territorio\, presso la sede operativa dell’associazione\, CasaNave Alle Mura\, spazio ideale che invita all’ascolto e al godere della musica in uno spirito di comunità. \nCome per la precedente PRIMA VERA MUSICA\, questa nuova rassegna si inserisce in un più ampio progetto\, FERMENTI SONORI  –  iniziative musicali di qualità che per modalità\, tematiche e contesto in cui sono inserite e presentate\, agiscono come stimoli di trasformazione\, inclusione e coesione sociale.  \nLa musica permea tutti gli aspetti del nostro vivere ed è attraverso la musica che intendiamo rispondere alla questione della povertà educativa. Con Fermenti Sonori vogliamo infatti favorire una cultura della musica multi-sfaccettata\, generi musicali diversi per epoca e provenienza che agiscono come “fermenti” nella massa del panorama socio-culturale del territorio\, rendendolo più effervescente e vitale\, più aperto a esperienze individuali e collettive di contaminazione e trasformazione. Musiche come fermenti\, dunque\, che gradualmente smuovono\, muovono e fanno crescere il livello di ascolto e di consapevolezza della comunità. \nA sostegno del progetto\, l’Associazione Kinesfera ha lanciato una campagna crowdfunding. Vai qui se vuoi sostenere anche tu FERMENTI SONORI!  \nGli appuntamenti di MUSICHERRANTI\, da settembre a novembre\, presentano musicisti di altissimo livello: \n\nAlfio Antico\, in duo con Amedeo Ronga\nPejman Tadayon\nTrio EnCanto\, Gabriel Aguilera con Karen Gomez e Fiore Benigni.\n\nCiò che accomuna Alfio\, Pejman e Gabriel è il fatto di essere costruttori degli strumenti che suonano\, di provenire da terre di antica tradizione\, di essere eclettici e includere nella loro arte la poesia\, il canto\, la danza. E infine\, tutti e tre hanno messo radici nel Centro-Nord d’Italia. \nIL PROGRAMMA \nsabato 23 settembre h 21:00Il dio Tamburo – concerto per voce\, tamburi e contrabbasso“Questi tamburi hanno un’anima\, sono un cerchio che si chiude.“Alfio Antico voce e tamburi a cornice Amedeo Ronga contrabbasso \ndomenica 24 settembre h 10 – 13Master Class con Alfio Antico \n*** \nsabato 21 ottobre h 21:00Viaggio in Persia“Sono convinto che l’Oriente e l’Occidente possano incontrarsi e conoscersi profondamente. E non ho altro che la musica per dimostrarlo.”Pejman Tadayon strumenti orientali (oud\, saz\, daf\, ney) \nsabato 21 ottobre h 17:30 – 19:30 workshop con Pejman Tadayon \n*** \nsabato 25 novembre h 21:00Dall’America Latina al MediterraneoTrio EnCanto: Gabriel Aguilera\, Fiore Benigni\, Karen Gòmezvoce\, chitarre\, percussioni\, organetto \n			\n			\n				\n				\n				\n				\n			\n				\n				\n				\n				\n				\n				\n				\n				\n				\n				\n				> Info\n			\n			\n				\n				\n				\n				\n			\n				\n				\n				\n				\n				\n				\n				\n				\n				\n				\n				Informazioni e prenotazioni 3755127096 – 3394981834\nEmail info@casanaveallemura.it
URL:https://casanaveallemura.com/evento/musiche-erranti/
LOCATION:CasaNave alle Mura
CATEGORIES:Concerti,Rassegna musicale
ATTACH;FMTTYPE=image/png:https://casanaveallemura.com/wp-content/uploads/2023/08/Musicherranti_autunno-cartolina.png
END:VEVENT
END:VCALENDAR